BEGIN:VCALENDAR
VERSION:2.0
PRODID:-//The Official Website of Khenchen Lama  - ECPv6.15.20//NONSGML v1.0//EN
CALSCALE:GREGORIAN
METHOD:PUBLISH
X-ORIGINAL-URL:https://khenchenlama.com
X-WR-CALDESC:Events for The Official Website of Khenchen Lama 
REFRESH-INTERVAL;VALUE=DURATION:PT1H
X-Robots-Tag:noindex
X-PUBLISHED-TTL:PT1H
BEGIN:VTIMEZONE
TZID:Europe/London
BEGIN:DAYLIGHT
TZOFFSETFROM:+0000
TZOFFSETTO:+0100
TZNAME:BST
DTSTART:20250330T010000
END:DAYLIGHT
BEGIN:STANDARD
TZOFFSETFROM:+0100
TZOFFSETTO:+0000
TZNAME:GMT
DTSTART:20251026T010000
END:STANDARD
BEGIN:DAYLIGHT
TZOFFSETFROM:+0000
TZOFFSETTO:+0100
TZNAME:BST
DTSTART:20260329T010000
END:DAYLIGHT
BEGIN:STANDARD
TZOFFSETFROM:+0100
TZOFFSETTO:+0000
TZNAME:GMT
DTSTART:20261025T010000
END:STANDARD
BEGIN:DAYLIGHT
TZOFFSETFROM:+0000
TZOFFSETTO:+0100
TZNAME:BST
DTSTART:20270328T010000
END:DAYLIGHT
BEGIN:STANDARD
TZOFFSETFROM:+0100
TZOFFSETTO:+0000
TZNAME:GMT
DTSTART:20271031T010000
END:STANDARD
END:VTIMEZONE
BEGIN:VEVENT
DTSTART;TZID=Europe/London:20260224T160000
DTEND;TZID=Europe/London:20260301T183000
DTSTAMP:20260420T010122
CREATED:20260208T114113Z
LAST-MODIFIED:20260209T104233Z
UID:10810-1771948800-1772389800@khenchenlama.com
SUMMARY:Empowerments and Teachings in Hong Kong 24 Feb - 26 Feb 2026
DESCRIPTION:EMPOWERMENTS AND TEACHINGS IN HONG KONG FEBRUARY 2026 \n\n\n\n\nDear Dharma friends and practitioners\, \n\n\n\n\nHis Holiness Khenchen Lama Rinpoche at the request of Dharma friends in Hong Kong will be giving teachings and empowerments on the following dates: \n\n\n\n1. Medicine Buddha Empowerment and Teaching\n\n\nEliminating calamities and prolonging life\, curing illness and fulfilling wishes\, purifying karma and increasing blessings\, achieving present-life happiness and ultimate enlightenment.\n\n\nDate: February 24\, 2026\n\n\nTime: 16:00-18:00\n\n\nLocation: Kagyu Prayer Dharma Assembly Retreat Center (Hong Kong) Limited (Sha Tau Kok Road\, Woking Hill Road\, Hung Fa Ling Road\, Fanling)\n\n\nFee: HK$100 (Exempt for members)\n\n\n\nThose interested in registering should fill out the Google form: https://forms.gle/Y1Rt46NmEfqy8WAv8 \n\n\nRegistration Deadline: February 20\, 2026 \n\n\n\n\n\n2. Vajra Armor Empowerment and Teaching\n\n\nDispels plagues and calamities\, breaks evil spells\, protects the body and home\, and swiftly brings peace and auspiciousness.\n\n\nDate: February 26\, 2026\n\n\nTime: 13:00-15:00\n\n\nLocation: Kagyu Prayer Ceremony Retreat Center (Hong Kong) Limited (Sha Tau Kok Road\, Wo Keng Shan Road\, Hung Fa Ling Road\, Fanling)\n\n\nFee: HK$100 (Exempt for members)\n\n\n\nInterested parties please fill out the Google form: https://forms.gle/Scy6Uq5y9vqSyMY67 \n\n\nRegistration Deadline: February 20\, 2026 \n\n \n\n\n\n\n\n3. Movements of the 21 Tibetan Yogas\n\n\nTaught personally by His Holiness Khenchen Lama Rinpoche\, this program focuses on the practice of energy channels and purifying negative karma.\n\n\n*This is a rare and precious Buddhist lineage.*\n\n\nDate: February 26\, 2026\n\n\nTime: 18:30-21:30\n\n\nLocation: Room 401\, Kwong Fat Commercial Centre\, 48 Kwong Wah Street\, Mong Kok\n\n\nFee: HK$350 (includes one center T-shirt and one yoga mat)\n\n\n\nInterested parties please fill out the Google form: https://forms.gle/1TBxsGDhdidabhou8 \n\nLimited places available\, first come\, first served.\n\n\n\n\n\nRegistration deadline: February 20\, 2026 \n\n4. Fire Puja\n\n\nAt the sincere request of many Dharma friends in Hong Kong\, Khenchen Lama Rinpoche has compassionately agreed to personally preside over a supreme Fire Puja in Hong Kong.\n\n\nThis fire puja is a supreme practice that can swiftly accumulate merit\, purify karmic obscurations\, fulfill virtuous wishes\, and accomplish all the benefits of attracting and averting negative influences.\n\n\nDate: March 1\, 2026\nTime: 13:00-18:00\n\n\nLocation: Kagyu Prayer Retreat Center (Hong Kong) Limited (Sha Tau Kok Road\, Wo King Shan Road\, Hung Fa Ling Road\, Fanling)\n\n\nFee: Donation Only\n\n\nThose interested in registering should fill out the Google form: https://forms.gle/1ZyQGscojX9Kh7V98 \n\n\n\n\n\n\nRegistration Deadline: February 20\, 2026\n\n\n\n\nOfficial Facebook Page:\nhttps://www.facebook.com/profile.php?id=61578851242274\n\n\nOfficial Website:\n\nhttps://awampadmaling.org/� \n\n\n\n\n\n\nEvent Link:\n\nhttps://awampadmaling.org/?post_type=tribe_events
URL:https://khenchenlama.com/event/10810/
ATTACH;FMTTYPE=image/jpeg:https://khenchenlama.com/wp-content/uploads/2026/02/626243389_122144944718961708_1688861918338005438_n.jpg
END:VEVENT
BEGIN:VEVENT
DTSTART;TZID=Europe/London:20260321T183000
DTEND;TZID=Europe/London:20260322T183000
DTSTAMP:20260420T010122
CREATED:20260318T032943Z
LAST-MODIFIED:20260318T033123Z
UID:10863-1774117800-1774204200@khenchenlama.com
SUMMARY:上師蓮花皇與金剛鎧甲灌頂、21瑜伽冥想
DESCRIPTION:上師蓮花皇與金剛鎧甲灌頂、21瑜伽冥想\n\n\n尊貴的大成就者伏藏大師 “貝札法王-堪欽喇嘛仁波切” 新寶藏\n\n\n*115年3月21日週六18:00-21:30- 上師蓮花皇灌頂、教導與傳承\n\n\n*115年3月22日週日09:30-11:30- 21 瑜伽冥想課\n\n\n* 13:30-16:30- 金剛鎧甲灌頂與教學及傳承\n\n\n歡迎報名功德主：\n一萬元：結緣品：咕嚕咕咧寶瓶（有益人緣愛情事業財運）\n一千元：結緣品： 天馬旗 或 給薩旗（轉運）\n隨喜金額：甘露丸.\n\n\n灌頂法會附設牌位：\n祈福：參贊500元\n超渡：參贊500元\n\n\n※郵局劃撥帳號:19198050，郵局劃撥户名:切望多滇喇嘛(釋迦仁波切)⇒喇嘛為上師之尊稱.\n\n\n※銀行轉帳:國泰世華銀行 北三重分行，\n銀行代號：013，\n銀行帳號:039-50-624233-2，\n户名:王陽明(釋迦仁波切之台灣姓名)\n\n\n主辦：中華民國寧瑪巴聞思修佛學會\n\n\n新北市三重區三和路四段91號5樓\n\n\n電話：（02）2286-8887 傳真：（02）2286-9881\n\n\n釋迦仁波切手機 ： 0927862729\n\n\n法會地點： 中國文化大學 推廣教育部APA藝文中心，\n大新館4樓數位演講廳， 台北市延平南路127號（距離小南門捷運站350公尺）\n\nhttps://www.lama.com.tw/content/msg/data.aspx?id=30212
URL:https://khenchenlama.com/event/taiwan2026-2/
ATTACH;FMTTYPE=image/jpeg:https://khenchenlama.com/wp-content/uploads/2026/03/貝札法王灌頂冥想.jpeg
END:VEVENT
BEGIN:VEVENT
DTSTART;TZID=Europe/London:20260328T140000
DTEND;TZID=Europe/London:20260328T160000
DTSTAMP:20260420T010122
CREATED:20260324T051056Z
LAST-MODIFIED:20260324T051056Z
UID:10888-1774706400-1774713600@khenchenlama.com
SUMMARY:Guru Rinpoche with Yeshe Tsogyal Empowerment
DESCRIPTION:Guru Rinpoche Day with His Holiness Khenchen Lama Rinpoche \nGuru Rinpoche with Yeshe Tsogyal Empowerment \nDate: 28th March 2026\, Saturday \nTime: 2:00pm – 4:00pm \nAddress: Tibet Gate\, 1/1 Sukhumvit 33 Alley\, Khlong Tan Nuea\, Watthana\, Bangkok 10110 \nFree Admission \nOrganiser: Awam Metok Ling\, Bangkok
URL:https://khenchenlama.com/event/guru-rinpoche-with-yeshe-tsogyal-empowerment/
LOCATION:Tibet Gate\, 1/1 Sukhumvit 33 Alley\, Khlong Tan Nuea\, Watthana\, Bangkok 10110\, Bangkok\, 10110\, Thailand
ATTACH;FMTTYPE=image/jpeg:https://khenchenlama.com/wp-content/uploads/2026/03/Guru-Rinpoche-Event.jpeg
END:VEVENT
END:VCALENDAR